BEGIN:VCALENDAR
VERSION:2.0
PRODID:-//Plone.org//NONSGML plone.app.event//EN
X-WR-TIMEZONE:Europe/Madrid
BEGIN:VEVENT
SUMMARY:Enchanté
DTSTART;TZID=Europe/Madrid;VALUE=DATE-TIME:20160306T190000
DTEND;TZID=Europe/Madrid;VALUE=DATE-TIME:20160306T200000
DTSTAMP;VALUE=DATE-TIME:20260422T001013Z
UID:f63087111bf6a295b9ef09ed66d7e582
CREATED;VALUE=DATE-TIME:20160306T000000Z
CATEGORIES:Música
LOCATION:Teatre Principal - C. Església, 45-47
ORGANIZER:S.C. L'Esperança i Regidoria de Cultura
COMMENT:Preu: 10 anticipada, 12 taquilla i 8 socis
DESCRIPTION:a càrrec de la cia. Divinas
URL:https://arenysdemar.cat/document.php?id=30740
END:VEVENT
END:VCALENDAR