BEGIN:VCALENDAR
VERSION:2.0
PRODID:-//Plone.org//NONSGML plone.app.event//EN
X-WR-TIMEZONE:Europe/Madrid
BEGIN:VEVENT
SUMMARY:Excursió a Cornudella de Montsant i Pantà de Siurana
DTSTART;TZID=Europe/Madrid;VALUE=DATE-TIME:20160224T080000
DTEND;TZID=Europe/Madrid;VALUE=DATE-TIME:20160224T090000
DTSTAMP;VALUE=DATE-TIME:20260425T032524Z
UID:4bde10fac7708f5e5aba6eebe7234c6e
CREATED;VALUE=DATE-TIME:20160224T000000Z
CATEGORIES:Festa
LOCATION:Riera, davant del C.C. Calisay
ORGANIZER:Vocalia de Jubilats
COMMENT:Preu: 38 &euro; socis i 43 &euro; no socis
URL:https://arenysdemar.cat/document.php?id=30746
END:VEVENT
END:VCALENDAR