BEGIN:VCALENDAR
VERSION:2.0
PRODID:-//Plone.org//NONSGML plone.app.event//EN
X-WR-TIMEZONE:Europe/Madrid
BEGIN:VEVENT
SUMMARY:Teatre: Una llibertat deliciosa
DTSTART;TZID=Europe/Madrid;VALUE=DATE-TIME:20160227T203000
DTEND;TZID=Europe/Madrid;VALUE=DATE-TIME:20160227T213000
DTSTAMP;VALUE=DATE-TIME:20260424T215907Z
UID:1b3014ce248221ca9fa833f0c0462372
CREATED;VALUE=DATE-TIME:20160227T000000Z
CATEGORIES:Teatre
LOCATION:Teatre Principal - C. Església, 45-47
ORGANIZER:S.C. L'Esperança i Regidoria de Cultura
COMMENT:Preu: 10 anticipada, 12 taquilla i 8 socis
DESCRIPTION:a cárrec de Ruda Teatre
URL:https://arenysdemar.cat/document.php?id=30749
END:VEVENT
END:VCALENDAR