BEGIN:VCALENDAR
VERSION:2.0
PRODID:-//Plone.org//NONSGML plone.app.event//EN
X-WR-TIMEZONE:Europe/Madrid
BEGIN:VEVENT
SUMMARY:Arribada d'en Carnestoltes
DTSTART;TZID=Europe/Madrid;VALUE=DATE-TIME:20160205T200000
DTEND;TZID=Europe/Madrid;VALUE=DATE-TIME:20160205T210000
DTSTAMP;VALUE=DATE-TIME:20260425T052934Z
UID:65c6cc9815ccb23633bc6d44c53487c9
CREATED;VALUE=DATE-TIME:20160205T000000Z
CATEGORIES:Festa
LOCATION:A les escales del  Mercat Municipal
ORGANIZER:Joan de Guineu i família i Ajuntament d'Arenys de Mar
URL:https://arenysdemar.cat/document.php?id=30761
END:VEVENT
END:VCALENDAR