BEGIN:VCALENDAR
VERSION:2.0
PRODID:-//Plone.org//NONSGML plone.app.event//EN
X-WR-TIMEZONE:Europe/Madrid
BEGIN:VEVENT
SUMMARY:Rua de Carnaval
DTSTART;TZID=Europe/Madrid;VALUE=DATE-TIME:20160206T170000
DTEND;TZID=Europe/Madrid;VALUE=DATE-TIME:20160206T180000
DTSTAMP;VALUE=DATE-TIME:20260425T032346Z
UID:2f44b98708881a6d94ec545128bc5b9b
CREATED;VALUE=DATE-TIME:20160206T000000Z
CATEGORIES:Música
LOCATION:Riera, des del carrer Montalt fins a la Plaça de l'Església
ORGANIZER:Entitats locals i Ajuntament d'Arenys de Mar
DESCRIPTION:Per Carnaval... qualsevol disfressa val!
URL:https://arenysdemar.cat/document.php?id=30764
END:VEVENT
END:VCALENDAR