BEGIN:VCALENDAR
VERSION:2.0
PRODID:-//Plone.org//NONSGML plone.app.event//EN
X-WR-TIMEZONE:Europe/Madrid
BEGIN:VEVENT
SUMMARY:Ball infantil de Carnaval
DTSTART;TZID=Europe/Madrid;VALUE=DATE-TIME:20160206T183000
DTEND;TZID=Europe/Madrid;VALUE=DATE-TIME:20160206T193000
DTSTAMP;VALUE=DATE-TIME:20260425T014843Z
UID:9955733644c15455b5b784cc1ad62136
CREATED;VALUE=DATE-TIME:20160206T000000Z
CATEGORIES:Infantils
LOCATION:Plaça de l'Església - Plaça de l'Església
ORGANIZER:Entitats locals i Ajuntament d'Arenys de Mar
DESCRIPTION:Balla i despentina't amb la Cia. Pentina el Gat.
URL:https://arenysdemar.cat/document.php?id=30765
END:VEVENT
END:VCALENDAR