BEGIN:VCALENDAR
VERSION:2.0
PRODID:-//Plone.org//NONSGML plone.app.event//EN
X-WR-TIMEZONE:Europe/Madrid
BEGIN:VEVENT
SUMMARY:Ball de Carnaval al Calisay
DTSTART;TZID=Europe/Madrid;VALUE=DATE-TIME:20160206T230000
DTEND;TZID=Europe/Madrid;VALUE=DATE-TIME:20160207T000000
DTSTAMP;VALUE=DATE-TIME:20260424T220744Z
UID:97d55927253b2c29792237b8a9b28348
CREATED;VALUE=DATE-TIME:20160206T000000Z
CATEGORIES:Festa
LOCATION:C.C. Calisay
ORGANIZER:Arenys Bàsquet
COMMENT:Preu: Taquilla 15 &euro; i anticipada 12 &euro; a les oficines del Club, dilluns,dimecres i divendres de 18 a 21 hores. El dia 5 de febrer de 18 a 21h i el dia 6 d'11 a 2 del migdia al Calisay
URL:https://arenysdemar.cat/document.php?id=30766
END:VEVENT
END:VCALENDAR