BEGIN:VCALENDAR
VERSION:2.0
PRODID:-//Plone.org//NONSGML plone.app.event//EN
X-WR-TIMEZONE:Europe/Madrid
BEGIN:VEVENT
SUMMARY:Testament d'en Carnestoltes
DTSTART;TZID=Europe/Madrid;VALUE=DATE-TIME:20160210T193000
DTEND;TZID=Europe/Madrid;VALUE=DATE-TIME:20160210T203000
DTSTAMP;VALUE=DATE-TIME:20260425T051829Z
UID:1ff525c6dd10f7da152ce6af7b767822
CREATED;VALUE=DATE-TIME:20160210T000000Z
CATEGORIES:Festa
LOCATION:Pati del C.C.Calisay - Riera del Pare Fita, 31
ORGANIZER:Joan de Guineu i família i Ajuntament d'Arenys de Mar
DESCRIPTION:Vine de dol a sentir les seves últimes voluntats
URL:https://arenysdemar.cat/document.php?id=30771
END:VEVENT
END:VCALENDAR