BEGIN:VCALENDAR
VERSION:2.0
PRODID:-//Plone.org//NONSGML plone.app.event//EN
X-WR-TIMEZONE:Europe/Madrid
BEGIN:VEVENT
SUMMARY:Taller obert de construcció de ninots de Guineu
DTSTART;TZID=Europe/Madrid;VALUE=DATE-TIME:20160130T110000
DTEND;TZID=Europe/Madrid;VALUE=DATE-TIME:20160130T120000
DTSTAMP;VALUE=DATE-TIME:20260424T184337Z
UID:4bf1036dd72e7edfa7791e72341dbcae
CREATED;VALUE=DATE-TIME:20160130T000000Z
CATEGORIES:Festa,Infantils
LOCATION:Plaça de l'Església - Plaça de l'Església
ORGANIZER:Joan de Guineu i família i Ajuntament d'Arenys de Mar
COMMENT:Durada: fins les 2 de la tarda
DESCRIPTION:Porta retalls de roba, construeix el teu carnestoltes i penja'l al balcó de casa durant tot el Carnaval.
URL:https://arenysdemar.cat/document.php?id=30778
END:VEVENT
END:VCALENDAR