BEGIN:VCALENDAR
VERSION:2.0
PRODID:-//Plone.org//NONSGML plone.app.event//EN
X-WR-TIMEZONE:Europe/Madrid
BEGIN:VEVENT
SUMMARY:Noves tecnologies i l'infant i l'adolescent
DTSTART;TZID=Europe/Madrid;VALUE=DATE-TIME:20160121T190000
DTEND;TZID=Europe/Madrid;VALUE=DATE-TIME:20160121T200000
DTSTAMP;VALUE=DATE-TIME:20260421T072003Z
UID:d4348c5782c95dda894d1c22eb08b582
CREATED;VALUE=DATE-TIME:20160121T000000Z
CATEGORIES:Cursos,Conferència
LOCATION:Sala Gran d'entitats del C.C. Calisay - Riera Pare Fita, 31
ORGANIZER:El Punt de l'interrogant, Ràdio Arenys i Ajuntament d'Arenys
COMMENT:Preu: 5 &euro; cada sessió / 15 &euro; quatre sessions
DESCRIPTION:Cicle de xerrades, l'infant i l'adolescent avui
URL:https://arenysdemar.cat/document.php?id=30780
END:VEVENT
END:VCALENDAR