BEGIN:VCALENDAR
VERSION:2.0
PRODID:-//Plone.org//NONSGML plone.app.event//EN
X-WR-TIMEZONE:Europe/Madrid
BEGIN:VEVENT
SUMMARY:Ball del dissabte
DTSTART;TZID=Europe/Madrid;VALUE=DATE-TIME:20160220T223000
DTEND;TZID=Europe/Madrid;VALUE=DATE-TIME:20160220T233000
DTSTAMP;VALUE=DATE-TIME:20260425T012206Z
UID:9494ff544fc91220929e37d0ce34d8ae
CREATED;VALUE=DATE-TIME:20160220T000000Z
CATEGORIES:Música
LOCATION:Ateneu Arenyenc
ORGANIZER:Ateneu Arenyenc
COMMENT:Preu: Soci 5&euro; i no soci 7&euro;
DESCRIPTION:amb l'actuació del Duet Dominó
URL:https://arenysdemar.cat/document.php?id=30784
END:VEVENT
END:VCALENDAR