BEGIN:VCALENDAR
VERSION:2.0
PRODID:-//Plone.org//NONSGML plone.app.event//EN
X-WR-TIMEZONE:Europe/Madrid
BEGIN:VEVENT
SUMMARY:Taula rodona: Acte en record a Fèlix Cucurull i Tey
DTSTART;TZID=Europe/Madrid;VALUE=DATE-TIME:20160207T113000
DTEND;TZID=Europe/Madrid;VALUE=DATE-TIME:20160207T123000
DTSTAMP;VALUE=DATE-TIME:20260425T032142Z
UID:cf60381d4b650f90c3416418d9e6f2b7
CREATED;VALUE=DATE-TIME:20160207T000000Z
LOCATION:Ateneu Arenyenc - Anselm Clavé, 22
ORGANIZER:Ateneu Arenyenc
COMMENT:Preu: Gratuït
DESCRIPTION:20 anys de la seva mort
URL:https://arenysdemar.cat/document.php?id=30793
END:VEVENT
END:VCALENDAR