BEGIN:VCALENDAR
VERSION:2.0
PRODID:-//Plone.org//NONSGML plone.app.event//EN
X-WR-TIMEZONE:Europe/Madrid
BEGIN:VEVENT
SUMMARY:Tertúlia literària de novel·la: Gaudí, una novel·la, de Mario Lacruz
DTSTART;TZID=Europe/Madrid;VALUE=DATE-TIME:20160215T190000
DTEND;TZID=Europe/Madrid;VALUE=DATE-TIME:20160215T200000
DTSTAMP;VALUE=DATE-TIME:20260424T170523Z
UID:56337b8dfe6bbbae551f5625771261d2
CREATED;VALUE=DATE-TIME:20160215T000000Z
CATEGORIES:Literatura
LOCATION:Sala d'Actes de la Biblioteca - C. Bonaire, 2
ORGANIZER:Biblioteca - Regidoria de Cultura
DESCRIPTION:a càrrec de Montserrat Fonoll
URL:https://arenysdemar.cat/document.php?id=30794
END:VEVENT
END:VCALENDAR