BEGIN:VCALENDAR
VERSION:2.0
PRODID:-//Plone.org//NONSGML plone.app.event//EN
X-WR-TIMEZONE:Europe/Madrid
BEGIN:VEVENT
SUMMARY:44è Concurs de Teatre Premi vila d'Arenys de Mar: Les rondalles d'en Planiol d'Ignasi Roda
DTSTART;TZID=Europe/Madrid;VALUE=DATE-TIME:20160214T180000
DTEND;TZID=Europe/Madrid;VALUE=DATE-TIME:20160214T190000
DTSTAMP;VALUE=DATE-TIME:20260424T221938Z
UID:d6b9d71a1aefedcedd1e019c69419fe2
CREATED;VALUE=DATE-TIME:20160214T000000Z
CATEGORIES:Teatre
LOCATION:Casal de Joventut Seràfica - Josep Baralt, s/n
ORGANIZER:Grup Artístic Carles Xena de Seràfics
COMMENT:Preu: Entrada general 7, socis 5 i ESO i Batxillerat 1
DESCRIPTION:A càrrec de Blaugrana Scena, de Sant Feliu de Codines
URL:https://arenysdemar.cat/document.php?id=30807
END:VEVENT
END:VCALENDAR