BEGIN:VCALENDAR
VERSION:2.0
PRODID:-//Plone.org//NONSGML plone.app.event//EN
X-WR-TIMEZONE:Europe/Madrid
BEGIN:VEVENT
SUMMARY:Taller de defensa personal i Kick Boxing
DTSTART;TZID=Europe/Madrid;VALUE=DATE-TIME:20160226T170000
DTEND;TZID=Europe/Madrid;VALUE=DATE-TIME:20160226T180000
DTSTAMP;VALUE=DATE-TIME:20260420T104449Z
UID:8df16e26a95b50bca57b1302765ec029
CREATED;VALUE=DATE-TIME:20160226T000000Z
CATEGORIES:Cursos
LOCATION:Espai Jove del C.C.Calisay - Riera del Pare Fita, 31
ORGANIZER:Regidoria d'Infància i Joventut
URL:https://arenysdemar.cat/document.php?id=30809
END:VEVENT
END:VCALENDAR