BEGIN:VCALENDAR
VERSION:2.0
PRODID:-//Plone.org//NONSGML plone.app.event//EN
X-WR-TIMEZONE:Europe/Madrid
BEGIN:VEVENT
SUMMARY:Dream Market · Kids Universe
DTSTART;TZID=Europe/Madrid;VALUE=DATE-TIME:20160410T110000
DTEND;TZID=Europe/Madrid;VALUE=DATE-TIME:20160410T120000
DTSTAMP;VALUE=DATE-TIME:20260423T115152Z
UID:897aa8b071bc86e76b926773eaa877a6
CREATED;VALUE=DATE-TIME:20160410T000000Z
CATEGORIES:Exposició,Mostra,Festa,Infantils,Música
LOCATION:Plaça de l'Església - Plaça de l'Església
ORGANIZER:Asociación EDAI
COMMENT:Preu: Gratuit
DESCRIPTION:Tot el que un nen es pugui imaginar, aquí ho trobaràs
URL:https://arenysdemar.cat/document.php?id=30840
END:VEVENT
END:VCALENDAR