BEGIN:VCALENDAR
VERSION:2.0
PRODID:-//Plone.org//NONSGML plone.app.event//EN
X-WR-TIMEZONE:Europe/Madrid
BEGIN:VEVENT
SUMMARY:Ball de tarda
DTSTART;TZID=Europe/Madrid;VALUE=DATE-TIME:20160306T183000
DTEND;TZID=Europe/Madrid;VALUE=DATE-TIME:20160306T193000
DTSTAMP;VALUE=DATE-TIME:20260422T232434Z
UID:5fa0e15f6d5fd4dad991df474fabee11
CREATED;VALUE=DATE-TIME:20160306T000000Z
CATEGORIES:Música
LOCATION:Ateneu Arenyenc
ORGANIZER:Ateneu Arenyenc
COMMENT:Preu: Preu únic 2 euros
DESCRIPTION:amb l'actuació de D.M. Ateneu
URL:https://arenysdemar.cat/document.php?id=30868
END:VEVENT
END:VCALENDAR