BEGIN:VCALENDAR
VERSION:2.0
PRODID:-//Plone.org//NONSGML plone.app.event//EN
X-WR-TIMEZONE:Europe/Madrid
BEGIN:VEVENT
SUMMARY:Ball del dissabte
DTSTART;TZID=Europe/Madrid;VALUE=DATE-TIME:20160326T223000
DTEND;TZID=Europe/Madrid;VALUE=DATE-TIME:20160326T233000
DTSTAMP;VALUE=DATE-TIME:20260422T233827Z
UID:baab422c2ba995b68637b8efd756c799
CREATED;VALUE=DATE-TIME:20160326T000000Z
CATEGORIES:Música
LOCATION:Ateneu Arenyenc - Anselm Clavé, 22
ORGANIZER:Ateneu Arenyenc
COMMENT:Preu: Soci 5 euros i no soci 7 euros
DESCRIPTION:amb l'actuació del Trio Maracaibo
URL:https://arenysdemar.cat/document.php?id=30872
END:VEVENT
END:VCALENDAR