BEGIN:VCALENDAR
VERSION:2.0
PRODID:-//Plone.org//NONSGML plone.app.event//EN
X-WR-TIMEZONE:Europe/Madrid
BEGIN:VEVENT
SUMMARY:La venganza de Don Mendo de Pedro Muñoz Seca
DTSTART;TZID=Europe/Madrid;VALUE=DATE-TIME:20160313T180000
DTEND;TZID=Europe/Madrid;VALUE=DATE-TIME:20160313T190000
DTSTAMP;VALUE=DATE-TIME:20260424T020043Z
UID:d5c543630051154f159d690ecc64ff9c
CREATED;VALUE=DATE-TIME:20160313T000000Z
CATEGORIES:Teatre
LOCATION:Teatre dels Seràfics
ORGANIZER:Regidoria de Cultura i Grup Artístic Carles Xena
COMMENT:Preu: 7 General 5 Socis 1 Estudiants
DESCRIPTION:a càrrec del grup Teatre del Talion de Lleida
URL:https://arenysdemar.cat/document.php?id=30895
END:VEVENT
END:VCALENDAR