BEGIN:VCALENDAR
VERSION:2.0
PRODID:-//Plone.org//NONSGML plone.app.event//EN
X-WR-TIMEZONE:Europe/Madrid
BEGIN:VEVENT
SUMMARY:Trobada de Clubs de Lectura: El Test, de Jordi Vallejo, dirigida per Cristina Clemente
DTSTART;TZID=Europe/Madrid;VALUE=DATE-TIME:20160307T000000
DTEND;TZID=Europe/Madrid;VALUE=DATE-TIME:20160307T010000
DTSTAMP;VALUE=DATE-TIME:20260423T010546Z
UID:c1a8c2fd5b22303c0f91d19ad5bc42d2
CREATED;VALUE=DATE-TIME:20160307T000000Z
CATEGORIES:Literatura,Teatre
LOCATION:Teatre Kursaal de Manresa
ORGANIZER:Biblioteca - Regidoria de Cultura  i Gerència de Serveis de Biblioteques
COMMENT:Preu: 15 (inclou l'entrada i el desplaçament).Inscripcions a la Biblioteca. Places limitades
URL:https://arenysdemar.cat/document.php?id=30905
END:VEVENT
END:VCALENDAR