BEGIN:VCALENDAR
VERSION:2.0
PRODID:-//Plone.org//NONSGML plone.app.event//EN
X-WR-TIMEZONE:Europe/Madrid
BEGIN:VEVENT
SUMMARY:Ibericus al Mercat
DTSTART;TZID=Europe/Madrid;VALUE=DATE-TIME:20160318T200000
DTEND;TZID=Europe/Madrid;VALUE=DATE-TIME:20160318T210000
DTSTAMP;VALUE=DATE-TIME:20260422T233440Z
UID:7ba55e9ff61349890384da994a8b0020
CREATED;VALUE=DATE-TIME:20160318T000000Z
CATEGORIES:Mostra
LOCATION:Mercat municipal - Riera Bisbe Pol, 82
ORGANIZER:Regidoria de Promoció Econòmica
DESCRIPTION:Jornada gastronòmica d'ibèrics i tapes
URL:https://arenysdemar.cat/document.php?id=30914
END:VEVENT
END:VCALENDAR