BEGIN:VCALENDAR
VERSION:2.0
PRODID:-//Plone.org//NONSGML plone.app.event//EN
X-WR-TIMEZONE:Europe/Madrid
BEGIN:VEVENT
SUMMARY:Lliurament de premis del Concurs de Dibuix Coeducatiu 2016
DTSTART;TZID=Europe/Madrid;VALUE=DATE-TIME:20160318T173000
DTEND;TZID=Europe/Madrid;VALUE=DATE-TIME:20160318T183000
DTSTAMP;VALUE=DATE-TIME:20260423T011409Z
UID:1fc1e0f32bfd397182a7f98b63e4b458
CREATED;VALUE=DATE-TIME:20160318T000000Z
CATEGORIES:Mostra
LOCATION:Sala Noble del C.C.Calisay - Riera Pare Fita, 31
ORGANIZER:Regidoria d'Igualtat
DESCRIPTION:Treballem en Igualtat: I tu, a què et dediques?
URL:https://arenysdemar.cat/document.php?id=30921
END:VEVENT
END:VCALENDAR