BEGIN:VCALENDAR
VERSION:2.0
PRODID:-//Plone.org//NONSGML plone.app.event//EN
X-WR-TIMEZONE:Europe/Madrid
BEGIN:VEVENT
SUMMARY:Cinema: Una dama en París
DTSTART;TZID=Europe/Madrid;VALUE=DATE-TIME:20160311T213000
DTEND;TZID=Europe/Madrid;VALUE=DATE-TIME:20160311T223000
DTSTAMP;VALUE=DATE-TIME:20260422T233337Z
UID:40821d47133af577e8b5f580f0e26fdd
CREATED;VALUE=DATE-TIME:20160311T000000Z
CATEGORIES:Cinema
LOCATION:al Casal Parroquial (Rial Sa Clavella, 23)
ORGANIZER:Regidoria d'Igualtat
DESCRIPTION:Dia Internacional de les Dones
URL:https://arenysdemar.cat/document.php?id=30922
END:VEVENT
END:VCALENDAR