BEGIN:VCALENDAR
VERSION:2.0
PRODID:-//Plone.org//NONSGML plone.app.event//EN
X-WR-TIMEZONE:Europe/Madrid
BEGIN:VEVENT
SUMMARY:Poesia en veu alta en commemoració del Dia Mundial de la Poesia
DTSTART;TZID=Europe/Madrid;VALUE=DATE-TIME:20160321T200000
DTEND;TZID=Europe/Madrid;VALUE=DATE-TIME:20160321T210000
DTSTAMP;VALUE=DATE-TIME:20260419T172654Z
UID:777bbad236a17d76b807063d08a2a209
CREATED;VALUE=DATE-TIME:20160321T000000Z
CATEGORIES:Literatura
LOCATION:Sala d'Actes de la Biblioteca - C. Bonaire, 2
ORGANIZER:Biblioteca - Regidoria de Cultura
DESCRIPTION:a càrrec de Ma Teresa Bertran, Emília Illamola i Jordi Vintró. Presentació a càrrec de Miquel Vila
URL:https://arenysdemar.cat/document.php?id=30923
END:VEVENT
END:VCALENDAR