BEGIN:VCALENDAR
VERSION:2.0
PRODID:-//Plone.org//NONSGML plone.app.event//EN
X-WR-TIMEZONE:Europe/Madrid
BEGIN:VEVENT
SUMMARY:Conferència: Houston, tenim un problema i observació astronòmica
DTSTART;TZID=Europe/Madrid;VALUE=DATE-TIME:20160226T200000
DTEND;TZID=Europe/Madrid;VALUE=DATE-TIME:20160226T210000
DTSTAMP;VALUE=DATE-TIME:20260422T021554Z
UID:8d5c1399f3a0db28449816b5eaed7155
CREATED;VALUE=DATE-TIME:20160226T000000Z
CATEGORIES:Conferència
LOCATION:Institut Els Tres Turons
ORGANIZER:Institut Els Tres Turons
DESCRIPTION:a càrrec de Joan Torrentó, enginyer aeroespacial (UPC) i exalumne de l'Institut
URL:https://arenysdemar.cat/document.php?id=30926
END:VEVENT
END:VCALENDAR