BEGIN:VCALENDAR
VERSION:2.0
PRODID:-//Plone.org//NONSGML plone.app.event//EN
X-WR-TIMEZONE:Europe/Madrid
BEGIN:VEVENT
SUMMARY:Curs de Coneixement de la Societat Catalana
DTSTART;TZID=Europe/Madrid;VALUE=DATE-TIME:20160301T093000
DTEND;TZID=Europe/Madrid;VALUE=DATE-TIME:20160301T103000
DTSTAMP;VALUE=DATE-TIME:20260424T215824Z
UID:3c1eb9a301ebcc99097a46f13c5d8f23
CREATED;VALUE=DATE-TIME:20160301T000000Z
CATEGORIES:Cursos
LOCATION:Sala Noble del C.C.Calisay - Riera Pare Fita, 31
ORGANIZER:Servei d'Acollida Itinerant del Consell Comarcal del Maresme
COMMENT:Durada: Tots els dimarts i dijous fins al 24 de març
DESCRIPTION:Mòdul Laboral
URL:https://arenysdemar.cat/document.php?id=30942
END:VEVENT
END:VCALENDAR