BEGIN:VCALENDAR
VERSION:2.0
PRODID:-//Plone.org//NONSGML plone.app.event//EN
X-WR-TIMEZONE:Europe/Madrid
BEGIN:VEVENT
SUMMARY:Conferència de Periodisme: Ètica i periodisme
DTSTART;TZID=Europe/Madrid;VALUE=DATE-TIME:20160329T180000
DTEND;TZID=Europe/Madrid;VALUE=DATE-TIME:20160329T190000
DTSTAMP;VALUE=DATE-TIME:20260422T234047Z
UID:797db91b6cc8ee92d8c2a44dfbb2d3e5
CREATED;VALUE=DATE-TIME:20160329T000000Z
CATEGORIES:Conferència
LOCATION:Sala Josep Maria Arnau del C.C.Calisay - Riera del Pare Fita, 31
ORGANIZER:Aula Extensió Universitària
DESCRIPTION:a càrrec de Marcel Mauri de la Universitat Pompeu Fabra
URL:https://arenysdemar.cat/document.php?id=30943
END:VEVENT
END:VCALENDAR