BEGIN:VCALENDAR
VERSION:2.0
PRODID:-//Plone.org//NONSGML plone.app.event//EN
X-WR-TIMEZONE:Europe/Madrid
BEGIN:VEVENT
SUMMARY:Xocolatada i activitats organitzades a càrrec del CSFEM
DTSTART;TZID=Europe/Madrid;VALUE=DATE-TIME:20160312T163000
DTEND;TZID=Europe/Madrid;VALUE=DATE-TIME:20160312T173000
DTSTAMP;VALUE=DATE-TIME:20260422T234910Z
UID:05ae17517de0e273cb405e0abf5115ee
CREATED;VALUE=DATE-TIME:20160312T000000Z
CATEGORIES:Mostra,Infantils
LOCATION:Plaça de l'Església - Plaça de l'Església
ORGANIZER:Ajuntament d'Arenys de Mar i CSFEM
COMMENT:Preu: Preu got de xocolata 1,30 &euro;
DESCRIPTION:dins del marc de la Fira Dolça
URL:https://arenysdemar.cat/document.php?id=30948
END:VEVENT
END:VCALENDAR