BEGIN:VCALENDAR
VERSION:2.0
PRODID:-//Plone.org//NONSGML plone.app.event//EN
X-WR-TIMEZONE:Europe/Madrid
BEGIN:VEVENT
SUMMARY:Inici del Curs d'Iniciació a la fotografia
DTSTART;TZID=Europe/Madrid;VALUE=DATE-TIME:20160227T100000
DTEND;TZID=Europe/Madrid;VALUE=DATE-TIME:20160227T110000
DTSTAMP;VALUE=DATE-TIME:20260420T113333Z
UID:3295837f285b402319d2b35b50835436
CREATED;VALUE=DATE-TIME:20160227T000000Z
CATEGORIES:Cursos
LOCATION:Local Social de l'AFA (Deràfics)
ORGANIZER:Agrupació Fotogràfica d'Arenys de Mar
COMMENT:Preu: 40&euro;. Inscripció alw web de l'AFA www.afaarenys.blogspot.com
Durada: 27 de febrer, 5, 12, 13 i 19 de març de 2016
DESCRIPTION:Apren els coneixements bàsics de la fotografia
URL:https://arenysdemar.cat/document.php?id=30957
END:VEVENT
END:VCALENDAR