BEGIN:VCALENDAR
VERSION:2.0
PRODID:-//Plone.org//NONSGML plone.app.event//EN
X-WR-TIMEZONE:Europe/Madrid
BEGIN:VEVENT
SUMMARY:Sessió informativa d'Educació Infantil
DTSTART;TZID=Europe/Madrid;VALUE=DATE-TIME:20160303T153000
DTEND;TZID=Europe/Madrid;VALUE=DATE-TIME:20160303T163000
DTSTAMP;VALUE=DATE-TIME:20260422T233647Z
UID:a8b44317f96300eaab7aa80bb8168c82
CREATED;VALUE=DATE-TIME:20160303T000000Z
CATEGORIES:Mostra
LOCATION:Col·legi La Presentació (Pompeu Fabra, 2)
ORGANIZER:Col·legi La Presentació
URL:https://arenysdemar.cat/document.php?id=30962
END:VEVENT
END:VCALENDAR