BEGIN:VCALENDAR
VERSION:2.0
PRODID:-//Plone.org//NONSGML plone.app.event//EN
X-WR-TIMEZONE:Europe/Madrid
BEGIN:VEVENT
SUMMARY:Sessió informativa d'Educació Infantil
DTSTART;TZID=Europe/Madrid;VALUE=DATE-TIME:20160301T093000
DTEND;TZID=Europe/Madrid;VALUE=DATE-TIME:20160301T103000
DTSTAMP;VALUE=DATE-TIME:20260424T215735Z
UID:578650d09da63e5f9842327fbcb6b3df
CREATED;VALUE=DATE-TIME:20160301T000000Z
CATEGORIES:Mostra
LOCATION:Col·legi La Presentació (Pompeu Fabra, 2)
ORGANIZER:Col·legi La Presentació
COMMENT:Durada: També el dia 3 a 2/4 de 4 de la tarda
URL:https://arenysdemar.cat/document.php?id=30963
END:VEVENT
END:VCALENDAR