BEGIN:VCALENDAR
VERSION:2.0
PRODID:-//Plone.org//NONSGML plone.app.event//EN
X-WR-TIMEZONE:Europe/Madrid
BEGIN:VEVENT
SUMMARY:Festa al carrer de la Perera
DTSTART;TZID=Europe/Madrid;VALUE=DATE-TIME:20160805T000000
DTEND;TZID=Europe/Madrid;VALUE=DATE-TIME:20160805T010000
DTSTAMP;VALUE=DATE-TIME:20260425T125255Z
UID:b1546d8cfabd9fbed8d663e73090a9b2
CREATED;VALUE=DATE-TIME:20160805T000000Z
CATEGORIES:Festa
LOCATION:C. festes del carrer de la Perera
ORGANIZER:Comissió de festes C. de la Perera
URL:https://arenysdemar.cat/document.php?id=30966
END:VEVENT
END:VCALENDAR