BEGIN:VCALENDAR
VERSION:2.0
PRODID:-//Plone.org//NONSGML plone.app.event//EN
X-WR-TIMEZONE:Europe/Madrid
BEGIN:VEVENT
SUMMARY:Arenys de Flors. Descobreix els espais florits!
DTSTART;TZID=Europe/Madrid;VALUE=DATE-TIME:20160604T000000
DTEND;TZID=Europe/Madrid;VALUE=DATE-TIME:20160604T010000
DTSTAMP;VALUE=DATE-TIME:20260424T083126Z
UID:59d23d1a1bcfa103b29bcb8e36202114
CREATED;VALUE=DATE-TIME:20160604T000000Z
CATEGORIES:Mostra
LOCATION:Diversos
ORGANIZER:Ajuntament d'Arenys de Mar
COMMENT:Durada: També diumenge 5 de juny
DESCRIPTION:Espais florits, concerts, tallers i conferències
URL:https://arenysdemar.cat/document.php?id=30988
END:VEVENT
END:VCALENDAR