BEGIN:VCALENDAR
VERSION:2.0
PRODID:-//Plone.org//NONSGML plone.app.event//EN
X-WR-TIMEZONE:Europe/Madrid
BEGIN:VEVENT
SUMMARY:Taller de puntes artesanes. Penjolls de fulles
DTSTART;TZID=Europe/Madrid;VALUE=DATE-TIME:20160401T160000
DTEND;TZID=Europe/Madrid;VALUE=DATE-TIME:20160401T170000
DTSTAMP;VALUE=DATE-TIME:20260420T044141Z
UID:1125206b3d7115643d2ebcd025a98386
CREATED;VALUE=DATE-TIME:20160401T000000Z
CATEGORIES:Cursos
LOCATION:Sala Gran d'entitats del C.C. Calisay - Riera Pare Fita, 31
ORGANIZER:Ajuntament d'Arenys de Mar - Museu d'Arenys de Mar
COMMENT:Preu: 25 euros. Per a més informació i inscripcions cal trucar al Museu d'Arenys de Mar T/937924444
DESCRIPTION:a càrrec d'Ewa Szpila del Centre Cultural de Bobowa
URL:https://arenysdemar.cat/document.php?id=31003
END:VEVENT
END:VCALENDAR