BEGIN:VCALENDAR
VERSION:2.0
PRODID:-//Plone.org//NONSGML plone.app.event//EN
X-WR-TIMEZONE:Europe/Madrid
BEGIN:VEVENT
SUMMARY:Exposició: Els 15 anys de l'Associació de Dones per la Igualtat
DTSTART;TZID=Europe/Madrid;VALUE=DATE-TIME:20160307T093000
DTEND;TZID=Europe/Madrid;VALUE=DATE-TIME:20160307T103000
DTSTAMP;VALUE=DATE-TIME:20260422T233602Z
UID:63522fa1f8e41cd587d9dadd8a0ee939
CREATED;VALUE=DATE-TIME:20160307T000000Z
CATEGORIES:Exposició
LOCATION:Sala Bótes del CC Calisay - Riera del Pare Fita, 31
ORGANIZER:Regidoria d'Igualtat
COMMENT:Durada: fins al 13 de març
DESCRIPTION:Actes al voltant del Dia Internacional de les Dones
URL:https://arenysdemar.cat/document.php?id=31006
END:VEVENT
END:VCALENDAR