BEGIN:VCALENDAR
VERSION:2.0
PRODID:-//Plone.org//NONSGML plone.app.event//EN
X-WR-TIMEZONE:Europe/Madrid
BEGIN:VEVENT
SUMMARY:Conferència de Filosofia: Walter Benjamin:pensament, vida i exili a l'Europa dels extrems
DTSTART;TZID=Europe/Madrid;VALUE=DATE-TIME:20160405T180000
DTEND;TZID=Europe/Madrid;VALUE=DATE-TIME:20160405T190000
DTSTAMP;VALUE=DATE-TIME:20260421T184010Z
UID:f92d7c8f3ad9dbbf10da3629ac6355f4
CREATED;VALUE=DATE-TIME:20160405T000000Z
CATEGORIES:Conferència
LOCATION:Sala Josep Maria Arnau del C.C.Calisay - Riera del Pare Fita, 31
ORGANIZER:Aula d'Extensió Universitària
DESCRIPTION:a càrrec de Maximiliano Fuentes de la Universitat de Girona
URL:https://arenysdemar.cat/document.php?id=31030
END:VEVENT
END:VCALENDAR