BEGIN:VCALENDAR
VERSION:2.0
PRODID:-//Plone.org//NONSGML plone.app.event//EN
X-WR-TIMEZONE:Europe/Madrid
BEGIN:VEVENT
SUMMARY:Frankenstein
DTSTART;TZID=Europe/Madrid;VALUE=DATE-TIME:20160518T211500
DTEND;TZID=Europe/Madrid;VALUE=DATE-TIME:20160518T221500
DTSTAMP;VALUE=DATE-TIME:20260422T014933Z
UID:dc859418c1c5acd1fffe3d21786f5687
CREATED;VALUE=DATE-TIME:20160518T000000Z
CATEGORIES:Cinema,Música
LOCATION:Teatre Principal - C. Església, 45-47
ORGANIZER:S.C. L'Esperança i la Regidoria de Cultura
COMMENT:Preu: Anticipada 15, taquilla 17 i socis 13
DESCRIPTION:a càrrec de la companyia The Royal Ballet. Retransmissió en directe des de la Royal Opera House de Londres
URL:https://arenysdemar.cat/document.php?id=31037
END:VEVENT
END:VCALENDAR