BEGIN:VCALENDAR
VERSION:2.0
PRODID:-//Plone.org//NONSGML plone.app.event//EN
X-WR-TIMEZONE:Europe/Madrid
BEGIN:VEVENT
SUMMARY:Cinera
DTSTART;TZID=Europe/Madrid;VALUE=DATE-TIME:20160508T180000
DTEND;TZID=Europe/Madrid;VALUE=DATE-TIME:20160508T190000
DTSTAMP;VALUE=DATE-TIME:20260421T223019Z
UID:cd55321015bfc44b8e09f8e2ab5ce63c
CREATED;VALUE=DATE-TIME:20160508T000000Z
CATEGORIES:Cinema
LOCATION:Teatre Principal - C. Església, 45-47
ORGANIZER:Ràdio Arenys, S.C. L'Esperança i Regidoria de Cultura
COMMENT:Preu: Anticipada 5&euro;, taquilla 6&euro; i socis 4&euro;
DESCRIPTION:Mostra de cinema documental
URL:https://arenysdemar.cat/document.php?id=31038
END:VEVENT
END:VCALENDAR