BEGIN:VCALENDAR
VERSION:2.0
PRODID:-//Plone.org//NONSGML plone.app.event//EN
X-WR-TIMEZONE:Europe/Madrid
BEGIN:VEVENT
SUMMARY:Aprenem a fer postres!
DTSTART;TZID=Europe/Madrid;VALUE=DATE-TIME:20160416T173000
DTEND;TZID=Europe/Madrid;VALUE=DATE-TIME:20160416T183000
DTSTAMP;VALUE=DATE-TIME:20260421T050123Z
UID:26c022e0bf72758af75d63db7ceeeb6b
CREATED;VALUE=DATE-TIME:20160416T000000Z
CATEGORIES:Cursos
LOCATION:Espai Jove del C.C.Calisay - Riera del Pare Fita, 31
ORGANIZER:Regidoria d'Infància i Joventut
DESCRIPTION:Preparem macedònia
URL:https://arenysdemar.cat/document.php?id=31096
END:VEVENT
END:VCALENDAR