BEGIN:VCALENDAR
VERSION:2.0
PRODID:-//Plone.org//NONSGML plone.app.event//EN
X-WR-TIMEZONE:Europe/Madrid
BEGIN:VEVENT
SUMMARY:Concert-xerrada de cloenda del curs Joan Vives: Parlem del piano
DTSTART;TZID=Europe/Madrid;VALUE=DATE-TIME:20160430T193000
DTEND;TZID=Europe/Madrid;VALUE=DATE-TIME:20160430T203000
DTSTAMP;VALUE=DATE-TIME:20260421T225357Z
UID:998ee935eed703584c53b9b6d08aa951
CREATED;VALUE=DATE-TIME:20160430T000000Z
CATEGORIES:Cursos,Música,Conferència
LOCATION:Sala Josep Maria Arnau del C.C.Calisay - Riera del Pare Fita, 31
ORGANIZER:Associació Escola de Música d'Arenys de Mar
COMMENT:Preu: 5 (gratuït pels alumnes inscrits al curs Joan Vives)
DESCRIPTION:a càrrec de Joan Vives i professorat de l'Escola Municipal de Música
URL:https://arenysdemar.cat/document.php?id=31102
END:VEVENT
END:VCALENDAR