BEGIN:VCALENDAR
VERSION:2.0
PRODID:-//Plone.org//NONSGML plone.app.event//EN
X-WR-TIMEZONE:Europe/Madrid
BEGIN:VEVENT
SUMMARY:Festa al carrer de l'Església
DTSTART;TZID=Europe/Madrid;VALUE=DATE-TIME:20160917T000000
DTEND;TZID=Europe/Madrid;VALUE=DATE-TIME:20160917T010000
DTSTAMP;VALUE=DATE-TIME:20260425T194028Z
UID:e58248fd1847be8ccd928fbbc131ead5
CREATED;VALUE=DATE-TIME:20160917T000000Z
CATEGORIES:Festa
ORGANIZER:Comissió de festes carrer Església
URL:https://arenysdemar.cat/document.php?id=31154
END:VEVENT
END:VCALENDAR