BEGIN:VCALENDAR
VERSION:2.0
PRODID:-//Plone.org//NONSGML plone.app.event//EN
X-WR-TIMEZONE:Europe/Madrid
BEGIN:VEVENT
SUMMARY:Concert de Música Barroca
DTSTART;TZID=Europe/Madrid;VALUE=DATE-TIME:20160403T124500
DTEND;TZID=Europe/Madrid;VALUE=DATE-TIME:20160403T134500
DTSTAMP;VALUE=DATE-TIME:20260424T011002Z
UID:c092083334b709dab7e37459ad55e532
CREATED;VALUE=DATE-TIME:20160403T000000Z
CATEGORIES:Música
LOCATION:Església del Convent dels Caputxins d'Arenys de Mar
COMMENT:Preu: Voluntat pels músics i gent necessitada de la vila
URL:https://arenysdemar.cat/document.php?id=31158
END:VEVENT
END:VCALENDAR