BEGIN:VCALENDAR
VERSION:2.0
PRODID:-//Plone.org//NONSGML plone.app.event//EN
X-WR-TIMEZONE:Europe/Madrid
BEGIN:VEVENT
SUMMARY:Filosofia: El món de Ramon Llull i el nostre: una aproximació als orígens de la cultura catalana.
DTSTART;TZID=Europe/Madrid;VALUE=DATE-TIME:20160517T180000
DTEND;TZID=Europe/Madrid;VALUE=DATE-TIME:20160517T190000
DTSTAMP;VALUE=DATE-TIME:20260421T054203Z
UID:725659973fefaefb6a9ac05731fda2b9
CREATED;VALUE=DATE-TIME:20160517T000000Z
CATEGORIES:Conferència
LOCATION:Sala Josep Maria Arnau del C.C.Calisay - Riera del Pare Fita, 31
ORGANIZER:Aula d'Extensió Universitària
COMMENT:Preu: -
DESCRIPTION:a càrrec de Víctor Pallejà, de la Universitat Pompeu Fabra
URL:https://arenysdemar.cat/document.php?id=31180
END:VEVENT
END:VCALENDAR