BEGIN:VCALENDAR
VERSION:2.0
PRODID:-//Plone.org//NONSGML plone.app.event//EN
X-WR-TIMEZONE:Europe/Madrid
BEGIN:VEVENT
SUMMARY:Converses a la carta en italià. Conversazione in italiano
DTSTART;TZID=Europe/Madrid;VALUE=DATE-TIME:20160510T190000
DTEND;TZID=Europe/Madrid;VALUE=DATE-TIME:20160510T200000
DTSTAMP;VALUE=DATE-TIME:20260419T153031Z
UID:8f2368cf48ab4c3b8210bb62cd1e9f46
CREATED;VALUE=DATE-TIME:20160510T000000Z
CATEGORIES:Literatura
LOCATION:Sala d'Actes de la Biblioteca - C. Bonaire, 2
ORGANIZER:Biblioteca - Regidoria de Cultura
DESCRIPTION:a càrrec d'Anna Riera
URL:https://arenysdemar.cat/document.php?id=31184
END:VEVENT
END:VCALENDAR