BEGIN:VCALENDAR
VERSION:2.0
PRODID:-//Plone.org//NONSGML plone.app.event//EN
X-WR-TIMEZONE:Europe/Madrid
BEGIN:VEVENT
SUMMARY:Converses a la carta en italià. Conversazione in italiano
DTSTART;TZID=Europe/Madrid;VALUE=DATE-TIME:20160524T190000
DTEND;TZID=Europe/Madrid;VALUE=DATE-TIME:20160524T200000
DTSTAMP;VALUE=DATE-TIME:20260420T120334Z
UID:322fb03cfe43a43c9dfa28f0b9fbf782
CREATED;VALUE=DATE-TIME:20160524T000000Z
LOCATION:Sala d'Actes de la Biblioteca - C. Bonaire, 2
ORGANIZER:Biblioteca - Regidoria de Cultura
DESCRIPTION:a càrrec d'Anna Riera
URL:https://arenysdemar.cat/document.php?id=31185
END:VEVENT
END:VCALENDAR