BEGIN:VCALENDAR
VERSION:2.0
PRODID:-//Plone.org//NONSGML plone.app.event//EN
X-WR-TIMEZONE:Europe/Madrid
BEGIN:VEVENT
SUMMARY:Parlem amb l'escriptora Laia Longan
DTSTART;TZID=Europe/Madrid;VALUE=DATE-TIME:20160523T091500
DTEND;TZID=Europe/Madrid;VALUE=DATE-TIME:20160523T101500
DTSTAMP;VALUE=DATE-TIME:20260420T164402Z
UID:f584d2a646b71d06b67872ae9eff734e
CREATED;VALUE=DATE-TIME:20160523T000000Z
CATEGORIES:Literatura,Infantils
LOCATION:Sala d'Actes de la Biblioteca - C. Bonaire, 2
ORGANIZER:Biblioteca - Regidoria de Cultura i Editorial Animallibres
DESCRIPTION:Trobada de l'escriptora i els alumnes de les escoles Joan Maragall i Sinera
URL:https://arenysdemar.cat/document.php?id=31191
END:VEVENT
END:VCALENDAR