BEGIN:VCALENDAR
VERSION:2.0
PRODID:-//Plone.org//NONSGML plone.app.event//EN
X-WR-TIMEZONE:Europe/Madrid
BEGIN:VEVENT
SUMMARY:Learning with books. Advanced. The Buried Giant, by Kazuo Ishiguro
DTSTART;TZID=Europe/Madrid;VALUE=DATE-TIME:20160527T200000
DTEND;TZID=Europe/Madrid;VALUE=DATE-TIME:20160527T210000
DTSTAMP;VALUE=DATE-TIME:20260420T165126Z
UID:4293871451894a763904e034da4a6fe1
CREATED;VALUE=DATE-TIME:20160527T000000Z
CATEGORIES:Literatura
LOCATION:Sala d'Actes de la Biblioteca - C. Bonaire, 2
ORGANIZER:Biblioteca - Regidoria de Cultura i Sakkara Viatges
DESCRIPTION:a càrrec de Manuel Delgado
URL:https://arenysdemar.cat/document.php?id=31196
END:VEVENT
END:VCALENDAR