BEGIN:VCALENDAR
VERSION:2.0
PRODID:-//Plone.org//NONSGML plone.app.event//EN
X-WR-TIMEZONE:Europe/Madrid
BEGIN:VEVENT
SUMMARY:Dia Mundial de la Fibromialgia, Síndrome Fatiga Crònica i Sensibilitat Química Múltiple
DTSTART;TZID=Europe/Madrid;VALUE=DATE-TIME:20160514T170000
DTEND;TZID=Europe/Madrid;VALUE=DATE-TIME:20160514T180000
DTSTAMP;VALUE=DATE-TIME:20260422T032421Z
UID:12bc2381c826f9694c5fbc55c9183623
CREATED;VALUE=DATE-TIME:20160514T000000Z
CATEGORIES:Festa
LOCATION:Teatre Principal - C. Església, 45-47
ORGANIZER:Associació Fatiga Crónica d'Arenys
COMMENT:Preu: 10 euros
Durada: Fins a les 21 hores
DESCRIPTION:amb l'espectacle d'Improscritos
URL:https://arenysdemar.cat/document.php?id=31213
END:VEVENT
END:VCALENDAR