BEGIN:VCALENDAR
VERSION:2.0
PRODID:-//Plone.org//NONSGML plone.app.event//EN
X-WR-TIMEZONE:Europe/Madrid
BEGIN:VEVENT
SUMMARY:Seminari de Filosofia: La biotecnologia avui: pors i esperances. 2a part
DTSTART;TZID=Europe/Madrid;VALUE=DATE-TIME:20160513T183000
DTEND;TZID=Europe/Madrid;VALUE=DATE-TIME:20160513T193000
DTSTAMP;VALUE=DATE-TIME:20260424T163134Z
UID:dc70180eb9d6ee0675ff3d3e2b4ec02f
CREATED;VALUE=DATE-TIME:20160513T000000Z
CATEGORIES:Conferència
LOCATION:Sala Noble del C.C.Calisay - Riera Pare Fita, 31
ORGANIZER:Aula d'Extensió Universitària
DESCRIPTION:a càrrec de Marcel Cano de la Universitat de Barcelona
URL:https://arenysdemar.cat/document.php?id=31214
END:VEVENT
END:VCALENDAR