BEGIN:VCALENDAR
VERSION:2.0
PRODID:-//Plone.org//NONSGML plone.app.event//EN
X-WR-TIMEZONE:Europe/Madrid
BEGIN:VEVENT
SUMMARY:Ball de tarda
DTSTART;TZID=Europe/Madrid;VALUE=DATE-TIME:20160501T183000
DTEND;TZID=Europe/Madrid;VALUE=DATE-TIME:20160501T193000
DTSTAMP;VALUE=DATE-TIME:20260424T022836Z
UID:1eec3fe3dd68d3665ce20b202ecf150e
CREATED;VALUE=DATE-TIME:20160501T000000Z
CATEGORIES:Música
LOCATION:Ateneu Arenyenc - Anselm Clavé, 22
ORGANIZER:Ateneu Arenyenc
COMMENT:Preu: Preu únic 2 euros
DESCRIPTION:amb l'actuació de D.M. Ateneu
URL:https://arenysdemar.cat/document.php?id=31238
END:VEVENT
END:VCALENDAR